BEGIN:VCALENDAR
VERSION:2.0
PRODID:-//MŠ Větrník Říčany - ECPv5.14.0.4//NONSGML v1.0//EN
CALSCALE:GREGORIAN
METHOD:PUBLISH
X-WR-CALNAME:MŠ Větrník Říčany
X-ORIGINAL-URL:https://msvetrnik.ricany.cz
X-WR-CALDESC:Akce na MŠ Větrník Říčany
BEGIN:VTIMEZONE
TZID:Europe/Prague
BEGIN:DAYLIGHT
TZOFFSETFROM:+0100
TZOFFSETTO:+0200
TZNAME:CEST
DTSTART:20260329T010000
END:DAYLIGHT
BEGIN:STANDARD
TZOFFSETFROM:+0200
TZOFFSETTO:+0100
TZNAME:CET
DTSTART:20261025T010000
END:STANDARD
END:VTIMEZONE
BEGIN:VEVENT
DTSTART;VALUE=DATE:20260618
DTEND;VALUE=DATE:20260619
DTSTAMP:20260424T212720
CREATED:20250909T092905Z
LAST-MODIFIED:20250909T092905Z
UID:1779-1781740800-1781827199@msvetrnik.ricany.cz
SUMMARY:Varieté Adonis "Loučení s předškoláky" - odpolední program pro děti a rodiče
DESCRIPTION:
URL:https://msvetrnik.ricany.cz/kalendar/variete-adonis-louceni-s-predskolaky-odpoledni-program-pro-deti-a-rodice/
CATEGORIES:kalendář bez hlavní stránky
END:VEVENT
END:VCALENDAR