BEGIN:VCALENDAR
VERSION:2.0
PRODID:-//MŠ Větrník Říčany - ECPv5.14.0.4//NONSGML v1.0//EN
CALSCALE:GREGORIAN
METHOD:PUBLISH
X-WR-CALNAME:MŠ Větrník Říčany
X-ORIGINAL-URL:https://msvetrnik.ricany.cz
X-WR-CALDESC:Akce na MŠ Větrník Říčany
BEGIN:VTIMEZONE
TZID:Europe/Prague
BEGIN:DAYLIGHT
TZOFFSETFROM:+0100
TZOFFSETTO:+0200
TZNAME:CEST
DTSTART:20260329T010000
END:DAYLIGHT
BEGIN:STANDARD
TZOFFSETFROM:+0200
TZOFFSETTO:+0100
TZNAME:CET
DTSTART:20261025T010000
END:STANDARD
END:VTIMEZONE
BEGIN:VEVENT
DTSTART;VALUE=DATE:20260601
DTEND;VALUE=DATE:20260602
DTSTAMP:20260424T213027
CREATED:20250909T092735Z
LAST-MODIFIED:20250909T092735Z
UID:1777-1780272000-1780358399@msvetrnik.ricany.cz
SUMMARY:Den dětí "Veselé čarování s kouzelníkem"
DESCRIPTION:
URL:https://msvetrnik.ricany.cz/kalendar/den-deti-vesele-carovani-s-kouzelnikem/
CATEGORIES:kalendář bez hlavní stránky
END:VEVENT
END:VCALENDAR